BEGIN:VCALENDAR
VERSION:2.0
PRODID:-//Plone.org//NONSGML plone.app.event//EN
X-WR-TIMEZONE:Europe/Berlin
BEGIN:VEVENT
SUMMARY:4. Deutschfolk Festival - Konzert & Tanz Abend - Viertour
DTSTART;TZID=Europe/Berlin;VALUE=DATE-TIME:20240921T183000
DTEND;TZID=Europe/Berlin;VALUE=DATE-TIME:20240921T193000
DTSTAMP;VALUE=DATE-TIME:20260421T102525Z
UID:aaafe337941941c88d337197f4d85dc6@cms.celtic-sense.de:8080
CREATED;VALUE=DATE-TIME:20240908T111647Z
DESCRIPTION:Viertour\nEntstanden ist die Band aus einer etwas bierseligen 
 Laune beim 2. Deutsch Folk Festival in Frankfurt/O. Aus Berlin\, Schwerin 
 und Thüringen stammend verstehen sich die Vier als eine Art folkloristisc
 hes Nord-Süd-Gipfeltreffen.
LAST-MODIFIED;VALUE=DATE-TIME:20240908T120029Z
LOCATION:Heimathaus Welver\, Klosterhof 10\, 59514 Welver-Kirchwelver\, Ta
 nzzelt
URL:http://cms.celtic-sense.de:8080/dahlhoff-gesellschaft/events/4-deutsch
 folk-festival-konzert-tanz-abend-viertour-gehler-zeller-liebert-schneider
END:VEVENT
BEGIN:VTIMEZONE
TZID:Europe/Berlin
X-LIC-LOCATION:Europe/Berlin
BEGIN:DAYLIGHT
DTSTART;VALUE=DATE-TIME:20240331T030000
TZNAME:CEST
TZOFFSETFROM:+0100
TZOFFSETTO:+0200
END:DAYLIGHT
END:VTIMEZONE
END:VCALENDAR
