BEGIN:VCALENDAR
VERSION:2.0
PRODID:-//Plone.org//NONSGML plone.app.event//EN
X-WR-TIMEZONE:Europe/Berlin
BEGIN:VEVENT
SUMMARY:4. Deutschfolk Festival - Workshop Polonaisen mit Thomas Krings
DTSTART;TZID=Europe/Berlin;VALUE=DATE-TIME:20240921T120000
DTEND;TZID=Europe/Berlin;VALUE=DATE-TIME:20240921T130000
DTSTAMP;VALUE=DATE-TIME:20260421T102221Z
UID:a2e48a58489648e097854ac745dba5e3@cms.celtic-sense.de:8080
CREATED;VALUE=DATE-TIME:20240908T110429Z
DESCRIPTION:Polonaisen Tanzworkshop mit Barock op de Deel\nHeimspiel mit D
 ahlhoff-Polonaisen aus Dinker für den Tanzboden. Es musizieren Mitglieder
  von Barock op de Deel und Gäste.
LAST-MODIFIED;VALUE=DATE-TIME:20240908T120616Z
LOCATION:Heimathaus Welver\, Klosterhof 10\, 59514 Welver-Kirchwelver
URL:http://cms.celtic-sense.de:8080/dahlhoff-gesellschaft/events/4-deutsch
 folk-festival-workshop-polonaisen-mit-thomas-krings
END:VEVENT
BEGIN:VTIMEZONE
TZID:Europe/Berlin
X-LIC-LOCATION:Europe/Berlin
BEGIN:DAYLIGHT
DTSTART;VALUE=DATE-TIME:20240331T030000
TZNAME:CEST
TZOFFSETFROM:+0100
TZOFFSETTO:+0200
END:DAYLIGHT
END:VTIMEZONE
END:VCALENDAR
