BEGIN:VCALENDAR
VERSION:2.0
PRODID:-//Plone.org//NONSGML plone.app.event//EN
X-WR-TIMEZONE:Europe/Berlin
BEGIN:VEVENT
SUMMARY:Dahlhoff Session und Tanz unter der Kastanie im Gasthaus Witteborg
 .
DTSTART;TZID=Europe/Berlin;VALUE=DATE-TIME:20220827T160000
DTEND;TZID=Europe/Berlin;VALUE=DATE-TIME:20220827T180000
DTSTAMP;VALUE=DATE-TIME:20260421T120608Z
UID:ab3a8178054b45da8fbd5902f53f611f@cms.celtic-sense.de:8080
CONTACT:Michael Möllers\, 01786879022\, mail@micmoellers.de\, http://www.
 dahlhoff-gesellschaft.de
CREATED;VALUE=DATE-TIME:20220718T181638Z
DESCRIPTION:Das 7. Dahlhoff Musikertreffen beginnt am Samstag\, 27. August
  um 16:00 Uhr in Anges Gasthof Wittenborg Welver-Dinker
LAST-MODIFIED;VALUE=DATE-TIME:20220718T191949Z
LOCATION:Anges Gasthof Witteborg\, Hellweg 25\, 59514 Welver-Dinker
URL:http://cms.celtic-sense.de:8080/dahlhoff-gesellschaft/events/deuschfol
 k-session-und-tanz-unter-der-kastanie-im-gasthaus-witteborg
END:VEVENT
BEGIN:VTIMEZONE
TZID:Europe/Berlin
X-LIC-LOCATION:Europe/Berlin
BEGIN:DAYLIGHT
DTSTART;VALUE=DATE-TIME:20220327T030000
TZNAME:CEST
TZOFFSETFROM:+0100
TZOFFSETTO:+0200
END:DAYLIGHT
END:VTIMEZONE
END:VCALENDAR
